BEGIN:VCALENDAR
VERSION:2.0
PRODID:-//hacksw/handcal//NONSGML v1.0//EN
BEGIN:VEVENT
DTSTART:20250826T163000Z
DTEND:20250826T170000Z
LOCATION:Chez Jeannot \nPaul Sacher-Anlage 1, \n4058 Basel
ORGANIZER;CN=Florian CANAL:MAILTO:canalflorian@orange.fr
SUMMARY:Rhy Schwimme | Descente du Rhin
DESCRIPTION:Bonjour à tous et à toutes,\nPour célébrer l'été et profiter encore des derniers instants sans le stress de septembre, je vous propose de faire la célèbre descente du Rhin, 's Rhy Schwimme pour les...
URL:https://www.emlyon-alumni.com/en/event/rhy-schwimme-descente-du-rhin/2025/08/26/559
BEGIN:VALARM
TRIGGER:-P0DT1H0M0S
ACTION:DISPLAY
END:VALARM
END:VEVENT
END:VCALENDAR