BEGIN:VCALENDAR
VERSION:2.0
PRODID:-//hacksw/handcal//NONSGML v1.0//EN
BEGIN:VEVENT
DTSTART:20250428T073000Z
DTEND:20250428T103000Z
LOCATION:Salon Michelin - 3e étage de la maison des Centraliens  \n8 rue Jean Goujon  \n75008 Paris
ORGANIZER;CN=Service Carriere Alumni:MAILTO:careeralumni@em-lyon.com
SUMMARY:COMPLET | Career sprint | Atelier présentiel Paris du 28 avril 2025
DESCRIPTION:Career Sprint | Atelier présentiel Paris Lundi 28 avril 2025 de 9h30 à 12h30 (autre date le 12 mai ! encore de la place)\nDu bilan de carrière à la prise de fonction, il n’est pas toujours facile de...
URL:https://www.emlyon-alumni.com/en/event/complet-career-sprint-atelier-presentiel-paris-du-28-avril-2025/2025/04/28/60
BEGIN:VALARM
TRIGGER:-P0DT1H0M0S
ACTION:DISPLAY
END:VALARM
END:VEVENT
END:VCALENDAR