BEGIN:VCALENDAR
VERSION:2.0
PRODID:-//hacksw/handcal//NONSGML v1.0//EN
BEGIN:VEVENT
DTSTART:20251129T130000Z
DTEND:20251130T000000Z
LOCATION:Campus emlyon business school, 144 Avenue Jean Jaurès, 69007 Lyon. \n144 Avenue Jean Jaures \n69007 LYON
ORGANIZER;CN=Anne Deslage:MAILTO:deslage@em-lyon.com
SUMMARY:emlyon alumni connect - Back to school
DESCRIPTION:MAJOR EVENTemlyon alumni connect 2025✨ Following the success of the 2024 edition—which brought together over 1,000 participants on our  new campus in the centre of Lyon—we invite you to join us for an...
URL:https://www.emlyon-alumni.com/en/event/emlyon-alumni-connect-back-to-school/2025/11/29/610
BEGIN:VALARM
TRIGGER:-P0DT1H0M0S
ACTION:DISPLAY
END:VALARM
END:VEVENT
END:VCALENDAR