BEGIN:VCALENDAR
VERSION:2.0
PRODID:-//hacksw/handcal//NONSGML v1.0//EN
BEGIN:VEVENT
DTSTART:20260430T063000Z
DTEND:20260430T083000Z
LOCATION:Cabinet Keyman \n72, Rue Tronchet \n69006 LYON
ORGANIZER;CN=Service Carriere Alumni:MAILTO:careeralumni@em-lyon.com
SUMMARY:Career Alumni | Libérez votre potentiel ! | Pitchez votre projet professionnel sous l'oeil d'experts du recrutement avec Keyman
DESCRIPTION:Atelier présentiel | Libérez votre potentiel & pitchez votre projet professionnel avec Keyman\nJeudi 30 avril 2026 de 8h30 à 10h30\nDéroulé  Libérez votre potentiel humain ! Venez pitcher votre futur ...
URL:https://www.emlyon-alumni.com/en/event/career-alumni-liberez-votre-potentiel-pitchez-votre-projet-professionnel-sous-l-oeil-d-experts-du-recrutement-avec-keyman/2026/04/30/708
BEGIN:VALARM
TRIGGER:-P0DT1H0M0S
ACTION:DISPLAY
END:VALARM
END:VEVENT
END:VCALENDAR