BEGIN:VCALENDAR
VERSION:2.0
PRODID:-//hacksw/handcal//NONSGML v1.0//EN
BEGIN:VEVENT
DTSTART:20260429T170000Z
DTEND:20260429T215500Z
LOCATION:L'atelier Ferroni \n8, Rue Neuve Sainte-Catherine \n13007 MARSEILLE
ORGANIZER;CN=Jean-Marc DOUCET:MAILTO:jmarcdoucet@gmail.com
SUMMARY:Visite de l'atelier Ferroni | Création d'un cocktail, dégustation et histoire du rhum à Marseille par Baptiste
DESCRIPTION:Chers alumnipour ce nouvel événement, nous vous proposons de nous retrouver pour une soirée conviviale autour de la création d'un cocktail et la découverte de l'histoire du rhum à Marseille. 📅 Le...
URL:https://www.emlyon-alumni.com/en/event/visite-de-l-atelier-ferroni-creation-d-un-cocktail-degustation-et-histoire-du-rhum-a-marseille-par-baptiste/2026/04/29/829
BEGIN:VALARM
TRIGGER:-P0DT1H0M0S
ACTION:DISPLAY
END:VALARM
END:VEVENT
END:VCALENDAR