BEGIN:VCALENDAR
VERSION:2.0
PRODID:-//hacksw/handcal//NONSGML v1.0//EN
BEGIN:VEVENT
DTSTART:20250430T073000Z
DTEND:20250430T103000Z
LOCATION:Campus emlyon Business School \n144, Avenue Jean Jaurès \n69007 LYON
ORGANIZER;CN=Service Carriere Alumni:MAILTO:careeralumni@em-lyon.com
SUMMARY:ANNULE | Career sprint | Atelier présentiel Lyon
DESCRIPTION:Career sprint | Atelier présentiel Lyon \nMercredi 30 avril 2025 de 9h30 à 12h30\nDu bilan de carrière à la prise de fonction, il n’est pas toujours facile de garder le cap dans un parcours de...
URL:https://www.emlyon-alumni.com/fr/event/annule-career-sprint-atelier-presentiel-lyon/2025/04/30/61
BEGIN:VALARM
TRIGGER:-P0DT1H0M0S
ACTION:DISPLAY
END:VALARM
END:VEVENT
END:VCALENDAR