BEGIN:VCALENDAR
VERSION:2.0
PRODID:-//hacksw/handcal//NONSGML v1.0//EN
BEGIN:VEVENT
DTSTART:20251129T130000Z
DTEND:20251130T000000Z
LOCATION:Campus emlyon business school, 144 Avenue Jean Jaurès, 69007 Lyon. \n144 Avenue Jean Jaures \n69007 LYON
ORGANIZER;CN=Anne Deslage:MAILTO:deslage@em-lyon.com
SUMMARY:emlyon alumni connect 2025 - Back to school
DESCRIPTION:GRAND ÉVÉNEMENTemlyon alumni connect 2025✨ Après le succès de 2024 – où plus de 1000 participants étaient réunis sur le nouveau campus de Lyon – nous vous donnons rendez-vous pour une édition encore...
URL:https://www.emlyon-alumni.com/fr/event/emlyon-alumni-connect-2025-back-to-school/2025/11/29/610
BEGIN:VALARM
TRIGGER:-P0DT1H0M0S
ACTION:DISPLAY
END:VALARM
END:VEVENT
END:VCALENDAR