BEGIN:VCALENDAR
VERSION:2.0
PRODID:-//hacksw/handcal//NONSGML v1.0//EN
BEGIN:VEVENT
DTSTART:20260428T160000Z
DTEND:20260428T180000Z
LOCATION:https://teams.microsoft.com/meet/39852652262637?p=WLMj4yPOlji9rG2TSM
ORGANIZER;CN=Service Carriere Alumni:MAILTO:careeralumni@em-lyon.com
SUMMARY:COMPLET Career Alumni | Découvrir son style de leadership et optimiser les performances de son équipe grâce aux typologies de personnalité
DESCRIPTION:Découvrir son style de leadership et optimiser les performances de son équipe grâce aux typologies de personnalité\nMardi 28 avril 2026 de 18h00 à 20h00\nLes Managers sont au quotidien soumis à deux...
URL:https://www.emlyon-alumni.com/fr/event/complet-career-alumni-decouvrir-son-style-de-leadership-et-optimiser-les-performances-de-son-equipe-grace-aux-typologies-de-personnalite/2026/04/28/788
BEGIN:VALARM
TRIGGER:-P0DT1H0M0S
ACTION:DISPLAY
END:VALARM
END:VEVENT
END:VCALENDAR