BEGIN:VCALENDAR
VERSION:2.0
PRODID:-//hacksw/handcal//NONSGML v1.0//EN
BEGIN:VEVENT
DTSTART:20260528T160000Z
DTEND:20260528T190000Z
LOCATION:Pullman Basel Europe \n43, Clarastrasse \n4058 BASEL
ORGANIZER;CN=Florian CANAL:MAILTO:canalflorian@orange.fr
SUMMARY:Basel | Table ronde sur la cybersécurité | emlyon alumni Connect the World
DESCRIPTION:Du 25 au 31 mai 2026, la communauté emlyon alumni se mobilise partout dans le monde pour une semaine unique de rencontres, d’échanges et d’inspiration : retrouvez les alumni près de chez vous et...
URL:https://www.emlyon-alumni.com/fr/event/basel-table-ronde-sur-la-cybersecurite-emlyon-alumni-connect-the-world/2026/05/28/838
BEGIN:VALARM
TRIGGER:-P0DT1H0M0S
ACTION:DISPLAY
END:VALARM
END:VEVENT
END:VCALENDAR