BEGIN:VCALENDAR
VERSION:2.0
PRODID:-//hacksw/handcal//NONSGML v1.0//EN
BEGIN:VEVENT
DTSTART:20250512T073000Z
DTEND:20250512T103000Z
LOCATION:Salon Michelin - 3e étage de la maison des Centraliens  \n8 rue Jean Goujon \n75008 Paris
ORGANIZER;CN=Service Carriere Alumni:MAILTO:careeralumni@em-lyon.com
SUMMARY:Career sprint | Atelier présentiel Paris du 12 mai 2025
DESCRIPTION:Career sprint | Atelier présentiel Paris Lundi 12 mai 2025 de 9h30 à 12h30\nDu bilan de carrière à la prise de fonction, il n’est pas toujours facile de garder le cap dans un parcours de transition...
URL:https://www.emlyon-alumni.com/fr/event/career-sprint-atelier-presentiel-paris-du-12-mai-2025/2025/05/12/90
BEGIN:VALARM
TRIGGER:-P0DT1H0M0S
ACTION:DISPLAY
END:VALARM
END:VEVENT
END:VCALENDAR